BEGIN:VCALENDAR
VERSION:2.0
PRODID:-//empowercdc.org//NONSGML kigkonsult.se iCalcreator 2.30.10//
CALSCALE:GREGORIAN
METHOD:PUBLISH
UID:fda14fc4-1b7e-425d-afcb-59c6857ddddc
X-WR-CALDESC:
X-WR-RELCALID:3bd1a4d056448029cd0afc0bb9c93dc1
X-WR-TIMEZONE:America/Chicago
BEGIN:VTIMEZONE
TZID:America/Chicago
BEGIN:STANDARD
TZNAME:CST
DTSTART:20211107T020000
TZOFFSETFROM:-0500
TZOFFSETTO:-0600
RDATE:20221106T020000
END:STANDARD
BEGIN:DAYLIGHT
TZNAME:CDT
DTSTART:20210314T020000
TZOFFSETFROM:-0600
TZOFFSETTO:-0500
RDATE:20220313T020000
RDATE:20230312T020000
END:DAYLIGHT
END:VTIMEZONE
BEGIN:VEVENT
UID:68efbc35-25a6-4b7e-8cb6-5bb638ffa401
DTSTAMP:20260424T031130Z
DESCRIPTION:
DTSTART;TZID=America/Chicago:20211223T153000
DTEND;TZID=America/Chicago:20211223T163000
LOCATION:Heritage Seniors
SUMMARY:Bingo
END:VEVENT
END:VCALENDAR
