BEGIN:VCALENDAR
VERSION:2.0
PRODID:-//empowercdc.org//NONSGML kigkonsult.se iCalcreator 2.30.10//
CALSCALE:GREGORIAN
METHOD:PUBLISH
UID:a1a2aa53-b8a6-41ac-b847-4a9517860975
X-WR-CALDESC:
X-WR-RELCALID:d475e0de2ce5313455c27b9248c14a93
X-WR-TIMEZONE:America/Chicago
BEGIN:VTIMEZONE
TZID:America/Chicago
BEGIN:STANDARD
TZNAME:CST
DTSTART:20211107T020000
TZOFFSETFROM:-0500
TZOFFSETTO:-0600
RDATE:20221106T020000
END:STANDARD
BEGIN:DAYLIGHT
TZNAME:CDT
DTSTART:20210314T020000
TZOFFSETFROM:-0600
TZOFFSETTO:-0500
RDATE:20220313T020000
RDATE:20230312T020000
END:DAYLIGHT
END:VTIMEZONE
BEGIN:VEVENT
UID:59c67ec4-aaca-4b3f-b762-8a495630238f
DTSTAMP:20260424T031146Z
DESCRIPTION:
DTSTART;TZID=America/Chicago:20211221T120000
DTEND;TZID=America/Chicago:20211221T130000
LOCATION:
SUMMARY:Food Pantry
END:VEVENT
END:VCALENDAR
