BEGIN:VCALENDAR
VERSION:2.0
PRODID:-//empowercdc.org//NONSGML kigkonsult.se iCalcreator 2.30.10//
CALSCALE:GREGORIAN
METHOD:PUBLISH
UID:f73e432d-7518-48e2-b4ee-dde657b58352
X-WR-CALDESC:
X-WR-RELCALID:3dc987ab4886dfd4a953d965f7ae03d5
X-WR-TIMEZONE:America/Chicago
BEGIN:VTIMEZONE
TZID:America/Chicago
BEGIN:STANDARD
TZNAME:CST
DTSTART:20211107T020000
TZOFFSETFROM:-0500
TZOFFSETTO:-0600
RDATE:20221106T020000
END:STANDARD
BEGIN:DAYLIGHT
TZNAME:CDT
DTSTART:20210314T020000
TZOFFSETFROM:-0600
TZOFFSETTO:-0500
RDATE:20220313T020000
RDATE:20230312T020000
END:DAYLIGHT
END:VTIMEZONE
BEGIN:VEVENT
UID:fcffbb4e-dcf9-45e2-80b1-e9658ab258a7
DTSTAMP:20260424T031150Z
DESCRIPTION:
DTSTART;TZID=America/Chicago:20211221T140000
DTEND;TZID=America/Chicago:20211221T150000
LOCATION:
SUMMARY:Simply Fit
END:VEVENT
END:VCALENDAR
