BEGIN:VCALENDAR
VERSION:2.0
PRODID:-//empowercdc.org//NONSGML kigkonsult.se iCalcreator 2.30.10//
CALSCALE:GREGORIAN
METHOD:PUBLISH
UID:defa4861-f098-4c7a-b022-29ccc0aa0a4f
X-WR-CALDESC:
X-WR-RELCALID:3bdd123f762190e0fb9123461722f073
X-WR-TIMEZONE:America/Chicago
BEGIN:VTIMEZONE
TZID:America/Chicago
BEGIN:STANDARD
TZNAME:CST
DTSTART:20211107T020000
TZOFFSETFROM:-0500
TZOFFSETTO:-0600
RDATE:20221106T020000
END:STANDARD
BEGIN:DAYLIGHT
TZNAME:CDT
DTSTART:20210314T020000
TZOFFSETFROM:-0600
TZOFFSETTO:-0500
RDATE:20220313T020000
RDATE:20230312T020000
END:DAYLIGHT
END:VTIMEZONE
BEGIN:VEVENT
UID:7e1729a1-63a3-4795-9f56-0ef5b2ab94ea
DTSTAMP:20260424T031313Z
DESCRIPTION:
DTSTART;TZID=America/Chicago:20211220T120000
DTEND;TZID=America/Chicago:20211220T130000
LOCATION:
SUMMARY:Scrabble Letter Ornanments
END:VEVENT
END:VCALENDAR
