BEGIN:VCALENDAR
VERSION:2.0
PRODID:-//empowercdc.org//NONSGML kigkonsult.se iCalcreator 2.30.10//
CALSCALE:GREGORIAN
METHOD:PUBLISH
UID:97389e6a-8208-44b5-842b-27efcdb8db88
X-WR-CALDESC:
X-WR-RELCALID:b8a33b6716ea6b7cd73a95c6d5806af3
X-WR-TIMEZONE:America/Chicago
BEGIN:VTIMEZONE
TZID:America/Chicago
BEGIN:STANDARD
TZNAME:CST
DTSTART:20211107T020000
TZOFFSETFROM:-0500
TZOFFSETTO:-0600
RDATE:20221106T020000
END:STANDARD
BEGIN:DAYLIGHT
TZNAME:CDT
DTSTART:20210314T020000
TZOFFSETFROM:-0600
TZOFFSETTO:-0500
RDATE:20220313T020000
RDATE:20230312T020000
END:DAYLIGHT
END:VTIMEZONE
BEGIN:VEVENT
UID:25340362-d441-4274-9998-ed07f246cd20
DTSTAMP:20260424T031358Z
DESCRIPTION:
DTSTART;TZID=America/Chicago:20211217T120000
DTEND;TZID=America/Chicago:20211217T130000
LOCATION:
SUMMARY:Bingo/Holiday Cheer
END:VEVENT
END:VCALENDAR
