BEGIN:VCALENDAR
VERSION:2.0
PRODID:-//empowercdc.org//NONSGML kigkonsult.se iCalcreator 2.30.10//
CALSCALE:GREGORIAN
METHOD:PUBLISH
UID:5d80bfd9-78db-4b3e-968c-163cd50eed50
X-WR-CALDESC:
X-WR-RELCALID:d513b0435d16a91dc8476f590b63ac8f
X-WR-TIMEZONE:America/Chicago
BEGIN:VTIMEZONE
TZID:America/Chicago
BEGIN:STANDARD
TZNAME:CST
DTSTART:20211107T020000
TZOFFSETFROM:-0500
TZOFFSETTO:-0600
RDATE:20221106T020000
END:STANDARD
BEGIN:DAYLIGHT
TZNAME:CDT
DTSTART:20210314T020000
TZOFFSETFROM:-0600
TZOFFSETTO:-0500
RDATE:20220313T020000
RDATE:20230312T020000
END:DAYLIGHT
END:VTIMEZONE
BEGIN:VEVENT
UID:22e52ab5-611d-44c6-b311-366eb83fc67e
DTSTAMP:20260424T031821Z
DESCRIPTION:
DTSTART;TZID=America/Chicago:20211217T110000
DTEND;TZID=America/Chicago:20211217T120000
LOCATION:
SUMMARY:Sit and Be Fit
END:VEVENT
END:VCALENDAR
