BEGIN:VCALENDAR
VERSION:2.0
PRODID:-//empowercdc.org//NONSGML kigkonsult.se iCalcreator 2.30.10//
CALSCALE:GREGORIAN
METHOD:PUBLISH
UID:30a6d1ae-fdc7-42ef-aded-ff6e4f110618
X-WR-CALDESC:
X-WR-RELCALID:69f6f415021cec483121e1f0c7ba1a3a
X-WR-TIMEZONE:America/Chicago
BEGIN:VTIMEZONE
TZID:America/Chicago
BEGIN:STANDARD
TZNAME:CST
DTSTART:20211107T020000
TZOFFSETFROM:-0500
TZOFFSETTO:-0600
RDATE:20221106T020000
END:STANDARD
BEGIN:DAYLIGHT
TZNAME:CDT
DTSTART:20210314T020000
TZOFFSETFROM:-0600
TZOFFSETTO:-0500
RDATE:20220313T020000
RDATE:20230312T020000
END:DAYLIGHT
END:VTIMEZONE
BEGIN:VEVENT
UID:a0b14d0d-3739-4016-a633-ed19d76599e9
DTSTAMP:20260424T031129Z
DESCRIPTION:
DTSTART;TZID=America/Chicago:20211216T150000
DTEND;TZID=America/Chicago:20211216T160000
LOCATION:Heritage Multifamily
SUMMARY:Stretch It Out
END:VEVENT
END:VCALENDAR
