BEGIN:VCALENDAR
VERSION:2.0
PRODID:-//empowercdc.org//NONSGML kigkonsult.se iCalcreator 2.30.10//
CALSCALE:GREGORIAN
METHOD:PUBLISH
UID:1b32a1da-9123-41d8-bfc8-357cc4abd8f2
X-WR-CALDESC:
X-WR-RELCALID:4d4732339dd8e93571c25285737d5c6c
X-WR-TIMEZONE:America/Chicago
BEGIN:VTIMEZONE
TZID:America/Chicago
BEGIN:STANDARD
TZNAME:CST
DTSTART:20211107T020000
TZOFFSETFROM:-0500
TZOFFSETTO:-0600
RDATE:20221106T020000
END:STANDARD
BEGIN:DAYLIGHT
TZNAME:CDT
DTSTART:20210314T020000
TZOFFSETFROM:-0600
TZOFFSETTO:-0500
RDATE:20220313T020000
RDATE:20230312T020000
END:DAYLIGHT
END:VTIMEZONE
BEGIN:VEVENT
UID:82e01647-1db1-443f-b4a3-50039589f26b
DTSTAMP:20260424T031307Z
DESCRIPTION:
DTSTART;TZID=America/Chicago:20211216T140000
DTEND;TZID=America/Chicago:20211216T150000
LOCATION:Heritage Multifamily
SUMMARY:Food Pantry
END:VEVENT
END:VCALENDAR
