BEGIN:VCALENDAR
VERSION:2.0
PRODID:-//empowercdc.org//NONSGML kigkonsult.se iCalcreator 2.30.10//
CALSCALE:GREGORIAN
METHOD:PUBLISH
UID:f7906883-dbf4-4820-9358-7029e44dfd1c
X-WR-CALDESC:
X-WR-RELCALID:614b9af61106548b4dec9e42964553c5
X-WR-TIMEZONE:America/Chicago
BEGIN:VTIMEZONE
TZID:America/Chicago
BEGIN:STANDARD
TZNAME:CST
DTSTART:20211107T020000
TZOFFSETFROM:-0500
TZOFFSETTO:-0600
RDATE:20221106T020000
END:STANDARD
BEGIN:DAYLIGHT
TZNAME:CDT
DTSTART:20210314T020000
TZOFFSETFROM:-0600
TZOFFSETTO:-0500
RDATE:20220313T020000
RDATE:20230312T020000
END:DAYLIGHT
END:VTIMEZONE
BEGIN:VEVENT
UID:4b2dcc32-84a0-4941-93d4-f31a454e749e
DTSTAMP:20260424T031647Z
DESCRIPTION:
DTSTART;TZID=America/Chicago:20211210T120000
DTEND;TZID=America/Chicago:20211210T130000
LOCATION:
SUMMARY:Let's Get Crafty w/ A.I.R.
END:VEVENT
END:VCALENDAR
