BEGIN:VCALENDAR
VERSION:2.0
PRODID:-//empowercdc.org//NONSGML kigkonsult.se iCalcreator 2.30.10//
CALSCALE:GREGORIAN
METHOD:PUBLISH
UID:83d93631-6a0e-43ff-a210-0ce2451f8fda
X-WR-CALDESC:
X-WR-RELCALID:21e3bd3913c634eeba8db2d7cb4b8195
X-WR-TIMEZONE:America/Chicago
BEGIN:VTIMEZONE
TZID:America/Chicago
BEGIN:STANDARD
TZNAME:CST
DTSTART:20211107T020000
TZOFFSETFROM:-0500
TZOFFSETTO:-0600
RDATE:20221106T020000
END:STANDARD
BEGIN:DAYLIGHT
TZNAME:CDT
DTSTART:20210314T020000
TZOFFSETFROM:-0600
TZOFFSETTO:-0500
RDATE:20220313T020000
RDATE:20230312T020000
END:DAYLIGHT
END:VTIMEZONE
BEGIN:VEVENT
UID:4cafb49a-53a0-4291-842a-b18fb7661580
DTSTAMP:20260424T031820Z
DESCRIPTION:
DTSTART;TZID=America/Chicago:20211210T110000
DTEND;TZID=America/Chicago:20211210T120000
LOCATION:
SUMMARY:Sit and Be Fit
END:VEVENT
END:VCALENDAR
