BEGIN:VCALENDAR
VERSION:2.0
PRODID:-//empowercdc.org//NONSGML kigkonsult.se iCalcreator 2.30.10//
CALSCALE:GREGORIAN
METHOD:PUBLISH
UID:c080f034-fd44-4b53-9a2b-256cd6af74a9
X-WR-CALDESC:
X-WR-RELCALID:19f86c530b74ae38147f0491f952ed76
X-WR-TIMEZONE:America/Chicago
BEGIN:VTIMEZONE
TZID:America/Chicago
BEGIN:STANDARD
TZNAME:CST
DTSTART:20211107T020000
TZOFFSETFROM:-0500
TZOFFSETTO:-0600
RDATE:20221106T020000
END:STANDARD
BEGIN:DAYLIGHT
TZNAME:CDT
DTSTART:20210314T020000
TZOFFSETFROM:-0600
TZOFFSETTO:-0500
RDATE:20220313T020000
RDATE:20230312T020000
END:DAYLIGHT
END:VTIMEZONE
BEGIN:VEVENT
UID:5e2e71f7-71e5-499f-a382-fdc1263af165
DTSTAMP:20260424T031146Z
DESCRIPTION:
DTSTART;TZID=America/Chicago:20211209T130000
DTEND;TZID=America/Chicago:20211209T140000
LOCATION:Heritage Seniors
SUMMARY:Winter Candles
END:VEVENT
END:VCALENDAR
