BEGIN:VCALENDAR
VERSION:2.0
PRODID:-//empowercdc.org//NONSGML kigkonsult.se iCalcreator 2.30.10//
CALSCALE:GREGORIAN
METHOD:PUBLISH
UID:eefc057a-2b7e-4922-b2ec-d520f37c32c3
X-WR-CALDESC:
X-WR-RELCALID:7f9260b17cdc932eae673dfc001e83e6
X-WR-TIMEZONE:America/Chicago
BEGIN:VTIMEZONE
TZID:America/Chicago
BEGIN:STANDARD
TZNAME:CST
DTSTART:20211107T020000
TZOFFSETFROM:-0500
TZOFFSETTO:-0600
RDATE:20221106T020000
END:STANDARD
BEGIN:DAYLIGHT
TZNAME:CDT
DTSTART:20210314T020000
TZOFFSETFROM:-0600
TZOFFSETTO:-0500
RDATE:20220313T020000
RDATE:20230312T020000
END:DAYLIGHT
END:VTIMEZONE
BEGIN:VEVENT
UID:ab64166e-b4b2-4a2e-bc52-d29b24471acf
DTSTAMP:20260424T031307Z
DESCRIPTION:
DTSTART;TZID=America/Chicago:20211209T143000
DTEND;TZID=America/Chicago:20211209T153000
LOCATION:Heritage Seniors
SUMMARY:Health Fair
END:VEVENT
END:VCALENDAR
