BEGIN:VCALENDAR
VERSION:2.0
PRODID:-//empowercdc.org//NONSGML kigkonsult.se iCalcreator 2.30.10//
CALSCALE:GREGORIAN
METHOD:PUBLISH
UID:3c390f08-e067-41ff-9b53-e4086b516201
X-WR-CALDESC:
X-WR-RELCALID:afc0c33f6c96f3a7e5d486e377624afa
X-WR-TIMEZONE:America/Chicago
BEGIN:VTIMEZONE
TZID:America/Chicago
BEGIN:STANDARD
TZNAME:CST
DTSTART:20211107T020000
TZOFFSETFROM:-0500
TZOFFSETTO:-0600
RDATE:20221106T020000
END:STANDARD
BEGIN:DAYLIGHT
TZNAME:CDT
DTSTART:20210314T020000
TZOFFSETFROM:-0600
TZOFFSETTO:-0500
RDATE:20220313T020000
RDATE:20230312T020000
END:DAYLIGHT
END:VTIMEZONE
BEGIN:VEVENT
UID:63f282e7-b5ec-4a17-9517-68f9084b8ec4
DTSTAMP:20260424T031131Z
DESCRIPTION:
DTSTART;TZID=America/Chicago:20211209T153000
DTEND;TZID=America/Chicago:20211209T163000
LOCATION:Heritage Seniors
SUMMARY:Bingo
END:VEVENT
END:VCALENDAR
