BEGIN:VCALENDAR
VERSION:2.0
PRODID:-//empowercdc.org//NONSGML kigkonsult.se iCalcreator 2.30.10//
CALSCALE:GREGORIAN
METHOD:PUBLISH
UID:4fad1bf4-2d8f-4c2a-b0b1-8f94879d3330
X-WR-CALDESC:
X-WR-RELCALID:25a195f4bb438667db292e2664e30da2
X-WR-TIMEZONE:America/Chicago
BEGIN:VTIMEZONE
TZID:America/Chicago
BEGIN:STANDARD
TZNAME:CST
DTSTART:20211107T020000
TZOFFSETFROM:-0500
TZOFFSETTO:-0600
RDATE:20221106T020000
END:STANDARD
BEGIN:DAYLIGHT
TZNAME:CDT
DTSTART:20210314T020000
TZOFFSETFROM:-0600
TZOFFSETTO:-0500
RDATE:20220313T020000
RDATE:20230312T020000
END:DAYLIGHT
END:VTIMEZONE
BEGIN:VEVENT
UID:a5fdd572-862f-4f75-b2ef-7f6183ea5aa6
DTSTAMP:20260424T031150Z
DESCRIPTION:
DTSTART;TZID=America/Chicago:20211208T150000
DTEND;TZID=America/Chicago:20211208T160000
LOCATION:
SUMMARY:Birthday Social
END:VEVENT
END:VCALENDAR
