BEGIN:VCALENDAR
VERSION:2.0
PRODID:-//empowercdc.org//NONSGML kigkonsult.se iCalcreator 2.30.10//
CALSCALE:GREGORIAN
METHOD:PUBLISH
UID:03564c53-cdf3-4a95-83d7-cc9637c6507f
X-WR-CALDESC:
X-WR-RELCALID:640d47e70115f7bf413a7be8ef8101e7
X-WR-TIMEZONE:America/Chicago
BEGIN:VTIMEZONE
TZID:America/Chicago
BEGIN:STANDARD
TZNAME:CST
DTSTART:20211107T020000
TZOFFSETFROM:-0500
TZOFFSETTO:-0600
RDATE:20221106T020000
END:STANDARD
BEGIN:DAYLIGHT
TZNAME:CDT
DTSTART:20210314T020000
TZOFFSETFROM:-0600
TZOFFSETTO:-0500
RDATE:20220313T020000
RDATE:20230312T020000
END:DAYLIGHT
END:VTIMEZONE
BEGIN:VEVENT
UID:954091f3-dea8-496c-a1d7-60d26061a979
DTSTAMP:20260424T031306Z
DESCRIPTION:
DTSTART;TZID=America/Chicago:20211207T140000
DTEND;TZID=America/Chicago:20211207T150000
LOCATION:
SUMMARY:Stretch It Out
END:VEVENT
END:VCALENDAR
