BEGIN:VCALENDAR
VERSION:2.0
PRODID:-//empowercdc.org//NONSGML kigkonsult.se iCalcreator 2.30.10//
CALSCALE:GREGORIAN
METHOD:PUBLISH
UID:ba823fca-dbf9-4071-b734-81efa75c04dd
X-WR-CALDESC:
X-WR-RELCALID:58e65f94b14578518c6cb54ec03ff9fa
X-WR-TIMEZONE:America/Chicago
BEGIN:VTIMEZONE
TZID:America/Chicago
BEGIN:STANDARD
TZNAME:CST
DTSTART:20211107T020000
TZOFFSETFROM:-0500
TZOFFSETTO:-0600
RDATE:20221106T020000
END:STANDARD
BEGIN:DAYLIGHT
TZNAME:CDT
DTSTART:20210314T020000
TZOFFSETFROM:-0600
TZOFFSETTO:-0500
RDATE:20220313T020000
RDATE:20230312T020000
END:DAYLIGHT
END:VTIMEZONE
BEGIN:VEVENT
UID:14ddd381-6678-4fc7-9ebf-d2f5a9fd2493
DTSTAMP:20260424T031431Z
DESCRIPTION:
DTSTART;TZID=America/Chicago:20211207T140000
DTEND;TZID=America/Chicago:20211207T150000
LOCATION:
SUMMARY:Simply Fit
END:VEVENT
END:VCALENDAR
