BEGIN:VCALENDAR
VERSION:2.0
PRODID:-//empowercdc.org//NONSGML kigkonsult.se iCalcreator 2.30.10//
CALSCALE:GREGORIAN
METHOD:PUBLISH
UID:e4a962e5-32ff-4009-90e2-6dc2b2757ddc
X-WR-CALDESC:
X-WR-RELCALID:1330decdeef662c3ce2083e8558a4c1a
X-WR-TIMEZONE:America/Chicago
BEGIN:VTIMEZONE
TZID:America/Chicago
BEGIN:STANDARD
TZNAME:CST
DTSTART:20211107T020000
TZOFFSETFROM:-0500
TZOFFSETTO:-0600
RDATE:20221106T020000
END:STANDARD
BEGIN:DAYLIGHT
TZNAME:CDT
DTSTART:20210314T020000
TZOFFSETFROM:-0600
TZOFFSETTO:-0500
RDATE:20220313T020000
RDATE:20230312T020000
END:DAYLIGHT
END:VTIMEZONE
BEGIN:VEVENT
UID:dba8b23a-5827-4355-ba4d-fac7a4a3b275
DTSTAMP:20260424T031151Z
DESCRIPTION:
DTSTART;TZID=America/Chicago:20211203T120000
DTEND;TZID=America/Chicago:20211203T130000
LOCATION:
SUMMARY:Birthday Bingo
END:VEVENT
END:VCALENDAR
