BEGIN:VCALENDAR
VERSION:2.0
PRODID:-//empowercdc.org//NONSGML kigkonsult.se iCalcreator 2.30.10//
CALSCALE:GREGORIAN
METHOD:PUBLISH
UID:5acf1cd7-1f43-4c1a-87a0-885847b57bea
X-WR-CALDESC:
X-WR-RELCALID:f56ec6d617509151b4af22973bac3a97
X-WR-TIMEZONE:America/Chicago
BEGIN:VTIMEZONE
TZID:America/Chicago
BEGIN:STANDARD
TZNAME:CST
DTSTART:20211107T020000
TZOFFSETFROM:-0500
TZOFFSETTO:-0600
RDATE:20221106T020000
END:STANDARD
BEGIN:DAYLIGHT
TZNAME:CDT
DTSTART:20210314T020000
TZOFFSETFROM:-0600
TZOFFSETTO:-0500
RDATE:20220313T020000
RDATE:20230312T020000
END:DAYLIGHT
END:VTIMEZONE
BEGIN:VEVENT
UID:2fe03cf9-132d-4711-8e54-ee91476cb575
DTSTAMP:20260424T031742Z
DESCRIPTION:
DTSTART;TZID=America/Chicago:20211203T110000
DTEND;TZID=America/Chicago:20211203T120000
LOCATION:
SUMMARY:Sit and Be Fit
END:VEVENT
END:VCALENDAR
