BEGIN:VCALENDAR
VERSION:2.0
PRODID:-//empowercdc.org//NONSGML kigkonsult.se iCalcreator 2.30.10//
CALSCALE:GREGORIAN
METHOD:PUBLISH
UID:e041ad61-ec9c-4a2c-b6aa-f16e61dc5ac6
X-WR-CALDESC:
X-WR-RELCALID:874a3a8b666173d02c9baa7860c59174
X-WR-TIMEZONE:America/Chicago
BEGIN:VTIMEZONE
TZID:America/Chicago
BEGIN:STANDARD
TZNAME:CST
DTSTART:20211107T020000
TZOFFSETFROM:-0500
TZOFFSETTO:-0600
RDATE:20221106T020000
END:STANDARD
BEGIN:DAYLIGHT
TZNAME:CDT
DTSTART:20210314T020000
TZOFFSETFROM:-0600
TZOFFSETTO:-0500
RDATE:20220313T020000
RDATE:20230312T020000
END:DAYLIGHT
END:VTIMEZONE
BEGIN:VEVENT
UID:0298514d-088b-4627-95b9-36fcd660d29f
DTSTAMP:20260424T044811Z
DESCRIPTION:
DTSTART;TZID=America/Chicago:20211130T140000
DTEND;TZID=America/Chicago:20211130T150000
LOCATION:
SUMMARY:Simply Fit
END:VEVENT
END:VCALENDAR
