BEGIN:VCALENDAR
VERSION:2.0
PRODID:-//empowercdc.org//NONSGML kigkonsult.se iCalcreator 2.30.10//
CALSCALE:GREGORIAN
METHOD:PUBLISH
UID:691ed135-6f22-46a5-b39e-9346dc8662b4
X-WR-CALDESC:Simply Fit.. Virtual Videos of Beginners Workouts
X-WR-RELCALID:c8b5599bfb34925fac7c8e5a33fe86fb
X-WR-TIMEZONE:America/Chicago
BEGIN:VTIMEZONE
TZID:America/Chicago
BEGIN:STANDARD
TZNAME:CST
DTSTART:20211107T020000
TZOFFSETFROM:-0500
TZOFFSETTO:-0600
RDATE:20221106T020000
END:STANDARD
BEGIN:DAYLIGHT
TZNAME:CDT
DTSTART:20210314T020000
TZOFFSETFROM:-0600
TZOFFSETTO:-0500
RDATE:20220313T020000
RDATE:20230312T020000
END:DAYLIGHT
END:VTIMEZONE
BEGIN:VEVENT
UID:6fc3d3e6-e081-4e0a-a10e-c339a19f1793
DTSTAMP:20260424T044812Z
DESCRIPTION:Simply Fit.. Virtual Videos of Beginners Workouts
DTSTART;TZID=America/Chicago:20211119T110000
DTEND;TZID=America/Chicago:20211119T120000
LOCATION:
SUMMARY:Exercise: Virtual Simply Fit
END:VEVENT
END:VCALENDAR
