BEGIN:VCALENDAR
VERSION:2.0
PRODID:-//empowercdc.org//NONSGML kigkonsult.se iCalcreator 2.30.10//
CALSCALE:GREGORIAN
METHOD:PUBLISH
UID:c7360181-418e-476f-9d9e-8c6459192304
X-WR-CALDESC:
X-WR-RELCALID:6313185b98e9ffb10ab64e44ad0e12fd
X-WR-TIMEZONE:America/Chicago
BEGIN:VTIMEZONE
TZID:America/Chicago
BEGIN:STANDARD
TZNAME:CST
DTSTART:20211107T020000
TZOFFSETFROM:-0500
TZOFFSETTO:-0600
RDATE:20221106T020000
END:STANDARD
BEGIN:DAYLIGHT
TZNAME:CDT
DTSTART:20210314T020000
TZOFFSETFROM:-0600
TZOFFSETTO:-0500
RDATE:20220313T020000
RDATE:20230312T020000
END:DAYLIGHT
END:VTIMEZONE
BEGIN:VEVENT
UID:e7b602f4-634a-4d3d-ba2e-51573d4bb093
DTSTAMP:20260424T044907Z
DESCRIPTION:
DTSTART;TZID=America/Chicago:20211109T140000
DTEND;TZID=America/Chicago:20211109T150000
LOCATION:
SUMMARY:Simply Fit
END:VEVENT
END:VCALENDAR
