BEGIN:VCALENDAR
VERSION:2.0
PRODID:-//empowercdc.org//NONSGML kigkonsult.se iCalcreator 2.30.10//
CALSCALE:GREGORIAN
METHOD:PUBLISH
UID:6ef407e3-851e-4981-ba7d-d53c35e7beec
X-WR-CALDESC:
X-WR-RELCALID:4fc35adbf68140032cd47ad7363b3ad1
X-WR-TIMEZONE:America/Chicago
BEGIN:VTIMEZONE
TZID:America/Chicago
BEGIN:STANDARD
TZNAME:CST
DTSTART:20211107T020000
TZOFFSETFROM:-0500
TZOFFSETTO:-0600
RDATE:20221106T020000
END:STANDARD
BEGIN:DAYLIGHT
TZNAME:CDT
DTSTART:20210314T020000
TZOFFSETFROM:-0600
TZOFFSETTO:-0500
RDATE:20220313T020000
RDATE:20230312T020000
END:DAYLIGHT
END:VTIMEZONE
BEGIN:VEVENT
UID:91f9e07c-ffb3-428d-8e64-087568fe3599
DTSTAMP:20260424T045241Z
DESCRIPTION:
DTSTART;TZID=America/Chicago:20211109T090000
DTEND;TZID=America/Chicago:20211109T100000
LOCATION:Heritage Seniors
SUMMARY:Resident Led Social Gathering
END:VEVENT
END:VCALENDAR
