BEGIN:VCALENDAR
VERSION:2.0
PRODID:-//empowercdc.org//NONSGML kigkonsult.se iCalcreator 2.30.10//
CALSCALE:GREGORIAN
METHOD:PUBLISH
UID:1c4459b6-67c1-4537-9ad9-43540fdc1d33
X-WR-CALDESC:
X-WR-RELCALID:d8f9ad709251a6b5d663b846c3056a05
X-WR-TIMEZONE:America/Chicago
BEGIN:VTIMEZONE
TZID:America/Chicago
BEGIN:STANDARD
TZNAME:CST
DTSTART:20211107T020000
TZOFFSETFROM:-0500
TZOFFSETTO:-0600
RDATE:20221106T020000
END:STANDARD
BEGIN:DAYLIGHT
TZNAME:CDT
DTSTART:20210314T020000
TZOFFSETFROM:-0600
TZOFFSETTO:-0500
RDATE:20220313T020000
RDATE:20230312T020000
END:DAYLIGHT
END:VTIMEZONE
BEGIN:VEVENT
UID:1d577938-5ad0-42ae-bf7d-e49e492766a0
DTSTAMP:20260424T044734Z
DESCRIPTION:
DTSTART;TZID=America/Chicago:20211102T140000
DTEND;TZID=America/Chicago:20211102T150000
LOCATION:
SUMMARY:Simply Fit
END:VEVENT
END:VCALENDAR
