BEGIN:VCALENDAR
VERSION:2.0
PRODID:-//empowercdc.org//NONSGML kigkonsult.se iCalcreator 2.30.10//
CALSCALE:GREGORIAN
METHOD:PUBLISH
UID:07945433-403a-44ec-806b-1741355372a5
X-WR-CALDESC:
X-WR-RELCALID:c815d63736348dbfd07d085867c6b353
X-WR-TIMEZONE:America/Chicago
BEGIN:VTIMEZONE
TZID:America/Chicago
BEGIN:STANDARD
TZNAME:CST
DTSTART:20201101T020000
TZOFFSETFROM:-0500
TZOFFSETTO:-0600
RDATE:20211107T020000
RDATE:20221106T020000
END:STANDARD
BEGIN:DAYLIGHT
TZNAME:CDT
DTSTART:20210314T020000
TZOFFSETFROM:-0600
TZOFFSETTO:-0500
RDATE:20220313T020000
RDATE:20230312T020000
END:DAYLIGHT
END:VTIMEZONE
BEGIN:VEVENT
UID:ac67b055-0cb5-4159-acb7-31fea6de4135
DTSTAMP:20260424T061634Z
DESCRIPTION:
DTSTART;TZID=America/Chicago:20211029T150000
DTEND;TZID=America/Chicago:20211029T160000
LOCATION:
SUMMARY:DIY Mask
END:VEVENT
END:VCALENDAR
