BEGIN:VCALENDAR
VERSION:2.0
PRODID:-//empowercdc.org//NONSGML kigkonsult.se iCalcreator 2.30.10//
CALSCALE:GREGORIAN
METHOD:PUBLISH
UID:c8ee4a8c-9ae9-4fdc-bea6-afcc42c73f9a
X-WR-CALDESC:
X-WR-RELCALID:4c4322b61e016fde39c2545797ecd5f1
X-WR-TIMEZONE:America/Chicago
BEGIN:VTIMEZONE
TZID:America/Chicago
BEGIN:STANDARD
TZNAME:CST
DTSTART:20201101T020000
TZOFFSETFROM:-0500
TZOFFSETTO:-0600
RDATE:20211107T020000
RDATE:20221106T020000
END:STANDARD
BEGIN:DAYLIGHT
TZNAME:CDT
DTSTART:20210314T020000
TZOFFSETFROM:-0600
TZOFFSETTO:-0500
RDATE:20220313T020000
RDATE:20230312T020000
END:DAYLIGHT
END:VTIMEZONE
BEGIN:VEVENT
UID:c563efc0-7cf7-4490-b260-e2c537f448eb
DTSTAMP:20260424T061918Z
DESCRIPTION:
DTSTART;TZID=America/Chicago:20211029T150000
DTEND;TZID=America/Chicago:20211029T170000
LOCATION:Heritage Senior
SUMMARY:Costume Party
END:VEVENT
END:VCALENDAR
