BEGIN:VCALENDAR
VERSION:2.0
PRODID:-//empowercdc.org//NONSGML kigkonsult.se iCalcreator 2.30.10//
CALSCALE:GREGORIAN
METHOD:PUBLISH
UID:113dd551-947f-4cd5-bf2d-30e4734c4ce3
X-WR-CALDESC:
X-WR-RELCALID:534754a3316bce37a8b54c7935001a2f
X-WR-TIMEZONE:America/Chicago
BEGIN:VTIMEZONE
TZID:America/Chicago
BEGIN:STANDARD
TZNAME:CST
DTSTART:20201101T020000
TZOFFSETFROM:-0500
TZOFFSETTO:-0600
RDATE:20211107T020000
RDATE:20221106T020000
END:STANDARD
BEGIN:DAYLIGHT
TZNAME:CDT
DTSTART:20210314T020000
TZOFFSETFROM:-0600
TZOFFSETTO:-0500
RDATE:20220313T020000
RDATE:20230312T020000
END:DAYLIGHT
END:VTIMEZONE
BEGIN:VEVENT
UID:9ca3240c-bb39-4174-86cb-0693d094855b
DTSTAMP:20260424T062408Z
DESCRIPTION:
DTSTART;TZID=America/Chicago:20211029T120000
DTEND;TZID=America/Chicago:20211029T130000
LOCATION:
SUMMARY:Birthday Social/ EBH Bingo
END:VEVENT
END:VCALENDAR
