BEGIN:VCALENDAR
VERSION:2.0
PRODID:-//empowercdc.org//NONSGML kigkonsult.se iCalcreator 2.30.10//
CALSCALE:GREGORIAN
METHOD:PUBLISH
UID:7a25eb83-2a8e-412c-a464-c638943b4389
X-WR-CALDESC:
X-WR-RELCALID:adf4bcf1c14c820c9d15c2edbadd658f
X-WR-TIMEZONE:America/Chicago
BEGIN:VTIMEZONE
TZID:America/Chicago
BEGIN:STANDARD
TZNAME:CST
DTSTART:20201101T020000
TZOFFSETFROM:-0500
TZOFFSETTO:-0600
RDATE:20211107T020000
RDATE:20221106T020000
END:STANDARD
BEGIN:DAYLIGHT
TZNAME:CDT
DTSTART:20210314T020000
TZOFFSETFROM:-0600
TZOFFSETTO:-0500
RDATE:20220313T020000
RDATE:20230312T020000
END:DAYLIGHT
END:VTIMEZONE
BEGIN:VEVENT
UID:bcb9f6e6-82cc-4644-b140-697e20de827e
DTSTAMP:20260424T061633Z
DESCRIPTION:
DTSTART;TZID=America/Chicago:20211028T143000
DTEND;TZID=America/Chicago:20211028T153000
LOCATION:
SUMMARY:Transportation: Kroger
END:VEVENT
END:VCALENDAR
