BEGIN:VCALENDAR
VERSION:2.0
PRODID:-//empowercdc.org//NONSGML kigkonsult.se iCalcreator 2.30.10//
CALSCALE:GREGORIAN
METHOD:PUBLISH
UID:8489d3b3-7ef0-4aa3-9b44-5c7ec69e415f
X-WR-CALDESC:
X-WR-RELCALID:7e1045eac1160c1990d02057b0f8a3b5
X-WR-TIMEZONE:America/Chicago
BEGIN:VTIMEZONE
TZID:America/Chicago
BEGIN:STANDARD
TZNAME:CST
DTSTART:20201101T020000
TZOFFSETFROM:-0500
TZOFFSETTO:-0600
RDATE:20211107T020000
RDATE:20221106T020000
END:STANDARD
BEGIN:DAYLIGHT
TZNAME:CDT
DTSTART:20210314T020000
TZOFFSETFROM:-0600
TZOFFSETTO:-0500
RDATE:20220313T020000
RDATE:20230312T020000
END:DAYLIGHT
END:VTIMEZONE
BEGIN:VEVENT
UID:5d3d4f89-d0e6-4d3c-a689-7ed4c4c267f0
DTSTAMP:20260424T062101Z
DESCRIPTION:
DTSTART;TZID=America/Chicago:20211028T130000
DTEND;TZID=America/Chicago:20211028T140000
LOCATION:Heritage Seniors
SUMMARY:Movie Matinee
END:VEVENT
END:VCALENDAR
