BEGIN:VCALENDAR
VERSION:2.0
PRODID:-//empowercdc.org//NONSGML kigkonsult.se iCalcreator 2.30.10//
CALSCALE:GREGORIAN
METHOD:PUBLISH
UID:897ad27e-9a6c-4484-a4b1-01fea55b13da
X-WR-CALDESC:
X-WR-RELCALID:47a7228344644d84d7a849efa9c41dc5
X-WR-TIMEZONE:America/Chicago
BEGIN:VTIMEZONE
TZID:America/Chicago
BEGIN:STANDARD
TZNAME:CST
DTSTART:20201101T020000
TZOFFSETFROM:-0500
TZOFFSETTO:-0600
RDATE:20211107T020000
RDATE:20221106T020000
END:STANDARD
BEGIN:DAYLIGHT
TZNAME:CDT
DTSTART:20210314T020000
TZOFFSETFROM:-0600
TZOFFSETTO:-0500
RDATE:20220313T020000
RDATE:20230312T020000
END:DAYLIGHT
END:VTIMEZONE
BEGIN:VEVENT
UID:5df767a5-8b07-49dc-b938-657dcce95b51
DTSTAMP:20260424T061919Z
DESCRIPTION:
DTSTART;TZID=America/Chicago:20211028T173000
DTEND;TZID=America/Chicago:20211028T183000
LOCATION:Heritage Multi Family
SUMMARY:Financial Planning Virtual Jeopardy
END:VEVENT
END:VCALENDAR
