BEGIN:VCALENDAR
VERSION:2.0
PRODID:-//empowercdc.org//NONSGML kigkonsult.se iCalcreator 2.30.10//
CALSCALE:GREGORIAN
METHOD:PUBLISH
UID:aa4fff2c-f2c5-4caa-ad1d-29d929ef4876
X-WR-CALDESC:
X-WR-RELCALID:45019073411af2d71ce5d77c1add0859
X-WR-TIMEZONE:America/Chicago
BEGIN:VTIMEZONE
TZID:America/Chicago
BEGIN:STANDARD
TZNAME:CST
DTSTART:20201101T020000
TZOFFSETFROM:-0500
TZOFFSETTO:-0600
RDATE:20211107T020000
RDATE:20221106T020000
END:STANDARD
BEGIN:DAYLIGHT
TZNAME:CDT
DTSTART:20210314T020000
TZOFFSETFROM:-0600
TZOFFSETTO:-0500
RDATE:20220313T020000
RDATE:20230312T020000
END:DAYLIGHT
END:VTIMEZONE
BEGIN:VEVENT
UID:eaf18550-cbf5-434e-a156-4c5086aa84eb
DTSTAMP:20260424T061813Z
DESCRIPTION:
DTSTART;TZID=America/Chicago:20211028T140000
DTEND;TZID=America/Chicago:20211028T150000
LOCATION:Heritage Seniors
SUMMARY:Door Decorating Contest
END:VEVENT
END:VCALENDAR
