BEGIN:VCALENDAR
VERSION:2.0
PRODID:-//empowercdc.org//NONSGML kigkonsult.se iCalcreator 2.30.10//
CALSCALE:GREGORIAN
METHOD:PUBLISH
UID:92030ddd-6e8a-42f0-9f04-ff584a497eb5
X-WR-CALDESC:
X-WR-RELCALID:739659aee7a4e8279983e979455edf4d
X-WR-TIMEZONE:America/Chicago
BEGIN:VTIMEZONE
TZID:America/Chicago
BEGIN:STANDARD
TZNAME:CST
DTSTART:20201101T020000
TZOFFSETFROM:-0500
TZOFFSETTO:-0600
RDATE:20211107T020000
RDATE:20221106T020000
END:STANDARD
BEGIN:DAYLIGHT
TZNAME:CDT
DTSTART:20210314T020000
TZOFFSETFROM:-0600
TZOFFSETTO:-0500
RDATE:20220313T020000
RDATE:20230312T020000
END:DAYLIGHT
END:VTIMEZONE
BEGIN:VEVENT
UID:6d4be1b7-0fca-45f2-bc8a-b66c310f46fc
DTSTAMP:20260424T062355Z
DESCRIPTION:
DTSTART;TZID=America/Chicago:20211027T103000
DTEND;TZID=America/Chicago:20211027T113000
LOCATION:
SUMMARY:Social: Italiano's Restaurant
END:VEVENT
END:VCALENDAR
