BEGIN:VCALENDAR
VERSION:2.0
PRODID:-//empowercdc.org//NONSGML kigkonsult.se iCalcreator 2.30.10//
CALSCALE:GREGORIAN
METHOD:PUBLISH
UID:48d8f5cf-3294-486b-ab56-74db364d0500
X-WR-CALDESC:
X-WR-RELCALID:323d4ff2d95f60586a8df4ac43ad1ea0
X-WR-TIMEZONE:America/Chicago
BEGIN:VTIMEZONE
TZID:America/Chicago
BEGIN:STANDARD
TZNAME:CST
DTSTART:20201101T020000
TZOFFSETFROM:-0500
TZOFFSETTO:-0600
RDATE:20211107T020000
RDATE:20221106T020000
END:STANDARD
BEGIN:DAYLIGHT
TZNAME:CDT
DTSTART:20210314T020000
TZOFFSETFROM:-0600
TZOFFSETTO:-0500
RDATE:20220313T020000
RDATE:20230312T020000
END:DAYLIGHT
END:VTIMEZONE
BEGIN:VEVENT
UID:bbfefe1e-94b3-463f-8586-831db0dafff4
DTSTAMP:20260424T061849Z
DESCRIPTION:
DTSTART;TZID=America/Chicago:20211026T160000
DTEND;TZID=America/Chicago:20211026T170000
LOCATION:
SUMMARY:Paint with a Twist
END:VEVENT
END:VCALENDAR
