BEGIN:VCALENDAR
VERSION:2.0
PRODID:-//empowercdc.org//NONSGML kigkonsult.se iCalcreator 2.30.10//
CALSCALE:GREGORIAN
METHOD:PUBLISH
UID:81a39c05-00be-4d20-8e00-4669be8fa71b
X-WR-CALDESC:
X-WR-RELCALID:5a909fd08d7140f34fdc1a5147d25139
X-WR-TIMEZONE:America/Chicago
BEGIN:VTIMEZONE
TZID:America/Chicago
BEGIN:STANDARD
TZNAME:CST
DTSTART:20201101T020000
TZOFFSETFROM:-0500
TZOFFSETTO:-0600
RDATE:20211107T020000
RDATE:20221106T020000
END:STANDARD
BEGIN:DAYLIGHT
TZNAME:CDT
DTSTART:20210314T020000
TZOFFSETFROM:-0600
TZOFFSETTO:-0500
RDATE:20220313T020000
RDATE:20230312T020000
END:DAYLIGHT
END:VTIMEZONE
BEGIN:VEVENT
UID:48f74593-fa2e-4f8d-b91a-38c5b2c79a4e
DTSTAMP:20260424T061736Z
DESCRIPTION:
DTSTART;TZID=America/Chicago:20211025T093000
DTEND;TZID=America/Chicago:20211025T103000
LOCATION:
SUMMARY:Transportation: Walmart
END:VEVENT
END:VCALENDAR
