BEGIN:VCALENDAR
VERSION:2.0
PRODID:-//empowercdc.org//NONSGML kigkonsult.se iCalcreator 2.30.10//
CALSCALE:GREGORIAN
METHOD:PUBLISH
UID:421abd2d-55b2-44e1-8908-01bac018b06b
X-WR-CALDESC:
X-WR-RELCALID:d33d5c042084398841480f21636fdc13
X-WR-TIMEZONE:America/Chicago
BEGIN:VTIMEZONE
TZID:America/Chicago
BEGIN:STANDARD
TZNAME:CST
DTSTART:20201101T020000
TZOFFSETFROM:-0500
TZOFFSETTO:-0600
RDATE:20211107T020000
RDATE:20221106T020000
END:STANDARD
BEGIN:DAYLIGHT
TZNAME:CDT
DTSTART:20210314T020000
TZOFFSETFROM:-0600
TZOFFSETTO:-0500
RDATE:20220313T020000
RDATE:20230312T020000
END:DAYLIGHT
END:VTIMEZONE
BEGIN:VEVENT
UID:b3c17e32-3711-40c2-8c94-5d40dc777d1b
DTSTAMP:20260424T061754Z
DESCRIPTION:
DTSTART;TZID=America/Chicago:20211025T150000
DTEND;TZID=America/Chicago:20211025T160000
LOCATION:
SUMMARY:Paint by Number
END:VEVENT
END:VCALENDAR
