BEGIN:VCALENDAR
VERSION:2.0
PRODID:-//empowercdc.org//NONSGML kigkonsult.se iCalcreator 2.30.10//
CALSCALE:GREGORIAN
METHOD:PUBLISH
UID:920a148c-7004-4711-9df3-198b24ef4b43
X-WR-CALDESC:
X-WR-RELCALID:b63fe822fd38a5ff7ff70d10174e3b28
X-WR-TIMEZONE:America/Chicago
BEGIN:VTIMEZONE
TZID:America/Chicago
BEGIN:STANDARD
TZNAME:CST
DTSTART:20201101T020000
TZOFFSETFROM:-0500
TZOFFSETTO:-0600
RDATE:20211107T020000
RDATE:20221106T020000
END:STANDARD
BEGIN:DAYLIGHT
TZNAME:CDT
DTSTART:20210314T020000
TZOFFSETFROM:-0600
TZOFFSETTO:-0500
RDATE:20220313T020000
RDATE:20230312T020000
END:DAYLIGHT
END:VTIMEZONE
BEGIN:VEVENT
UID:46c7704b-9b33-4db4-899d-3d4ad47be87f
DTSTAMP:20260424T062229Z
DESCRIPTION:
DTSTART;TZID=America/Chicago:20211025T160000
DTEND;TZID=America/Chicago:20211025T170000
LOCATION:
SUMMARY:Pink Out Walk
END:VEVENT
END:VCALENDAR
