BEGIN:VCALENDAR
VERSION:2.0
PRODID:-//empowercdc.org//NONSGML kigkonsult.se iCalcreator 2.30.10//
CALSCALE:GREGORIAN
METHOD:PUBLISH
UID:17c1f1d1-ca40-400e-8bd1-e3c1f2713ee6
X-WR-CALDESC:
X-WR-RELCALID:58d814ed562f62d767cf9df829382f7b
X-WR-TIMEZONE:America/Chicago
BEGIN:VTIMEZONE
TZID:America/Chicago
BEGIN:STANDARD
TZNAME:CST
DTSTART:20201101T020000
TZOFFSETFROM:-0500
TZOFFSETTO:-0600
RDATE:20211107T020000
RDATE:20221106T020000
END:STANDARD
BEGIN:DAYLIGHT
TZNAME:CDT
DTSTART:20210314T020000
TZOFFSETFROM:-0600
TZOFFSETTO:-0500
RDATE:20220313T020000
RDATE:20230312T020000
END:DAYLIGHT
END:VTIMEZONE
BEGIN:VEVENT
UID:5b89c682-1091-4de4-a47b-e6dec56e757a
DTSTAMP:20260424T062303Z
DESCRIPTION:
DTSTART;TZID=America/Chicago:20211022T130000
DTEND;TZID=America/Chicago:20211022T140000
LOCATION:
SUMMARY:Lets Get Crafty w/ A.I.R.
END:VEVENT
END:VCALENDAR
