BEGIN:VCALENDAR
VERSION:2.0
PRODID:-//empowercdc.org//NONSGML kigkonsult.se iCalcreator 2.30.10//
CALSCALE:GREGORIAN
METHOD:PUBLISH
UID:dc5f11a3-1764-4872-83be-1549be5f007e
X-WR-CALDESC:
X-WR-RELCALID:e158055378fa36cf9e7eba7d7954c466
X-WR-TIMEZONE:America/Chicago
BEGIN:VTIMEZONE
TZID:America/Chicago
BEGIN:STANDARD
TZNAME:CST
DTSTART:20201101T020000
TZOFFSETFROM:-0500
TZOFFSETTO:-0600
RDATE:20211107T020000
RDATE:20221106T020000
END:STANDARD
BEGIN:DAYLIGHT
TZNAME:CDT
DTSTART:20210314T020000
TZOFFSETFROM:-0600
TZOFFSETTO:-0500
RDATE:20220313T020000
RDATE:20230312T020000
END:DAYLIGHT
END:VTIMEZONE
BEGIN:VEVENT
UID:200760f0-65b6-4069-acd7-edd9e1ba9666
DTSTAMP:20260424T061535Z
DESCRIPTION:
DTSTART;TZID=America/Chicago:20211021T150000
DTEND;TZID=America/Chicago:20211021T160000
LOCATION:
SUMMARY:Meet & Greet
END:VEVENT
END:VCALENDAR
