BEGIN:VCALENDAR
VERSION:2.0
PRODID:-//empowercdc.org//NONSGML kigkonsult.se iCalcreator 2.30.10//
CALSCALE:GREGORIAN
METHOD:PUBLISH
UID:51322862-6f89-4001-8838-ec95ad286014
X-WR-CALDESC:
X-WR-RELCALID:d35a9d7517692c634e531f3ca6a0a650
X-WR-TIMEZONE:America/Chicago
BEGIN:VTIMEZONE
TZID:America/Chicago
BEGIN:STANDARD
TZNAME:CST
DTSTART:20201101T020000
TZOFFSETFROM:-0500
TZOFFSETTO:-0600
RDATE:20211107T020000
RDATE:20221106T020000
END:STANDARD
BEGIN:DAYLIGHT
TZNAME:CDT
DTSTART:20210314T020000
TZOFFSETFROM:-0600
TZOFFSETTO:-0500
RDATE:20220313T020000
RDATE:20230312T020000
END:DAYLIGHT
END:VTIMEZONE
BEGIN:VEVENT
UID:a127dd49-cfd2-40a3-aeeb-1e53625832e2
DTSTAMP:20260424T061814Z
DESCRIPTION:
DTSTART;TZID=America/Chicago:20211021T120000
DTEND;TZID=America/Chicago:20211021T130000
LOCATION:
SUMMARY:Food Pantry
END:VEVENT
END:VCALENDAR
