BEGIN:VCALENDAR
VERSION:2.0
PRODID:-//empowercdc.org//NONSGML kigkonsult.se iCalcreator 2.30.10//
CALSCALE:GREGORIAN
METHOD:PUBLISH
UID:9a5d4bc9-a53a-4e44-be1a-e130e23b8c30
X-WR-CALDESC:
X-WR-RELCALID:b1738e786499cbab04ccfced350fc04c
X-WR-TIMEZONE:America/Chicago
BEGIN:VTIMEZONE
TZID:America/Chicago
BEGIN:STANDARD
TZNAME:CST
DTSTART:20201101T020000
TZOFFSETFROM:-0500
TZOFFSETTO:-0600
RDATE:20211107T020000
RDATE:20221106T020000
END:STANDARD
BEGIN:DAYLIGHT
TZNAME:CDT
DTSTART:20210314T020000
TZOFFSETFROM:-0600
TZOFFSETTO:-0500
RDATE:20220313T020000
RDATE:20230312T020000
END:DAYLIGHT
END:VTIMEZONE
BEGIN:VEVENT
UID:34f351c5-d4f7-4783-ba7d-9da9c62b52a6
DTSTAMP:20260424T061630Z
DESCRIPTION:
DTSTART;TZID=America/Chicago:20211018T093000
DTEND;TZID=America/Chicago:20211018T103000
LOCATION:
SUMMARY:Transportation: Dollar Tree
END:VEVENT
END:VCALENDAR
