BEGIN:VCALENDAR
VERSION:2.0
PRODID:-//empowercdc.org//NONSGML kigkonsult.se iCalcreator 2.30.10//
CALSCALE:GREGORIAN
METHOD:PUBLISH
UID:fff3fc4a-2996-457b-b859-c3a3517e4266
X-WR-CALDESC:
X-WR-RELCALID:b95a0d9d9323f1702e116fd3d8e5c304
X-WR-TIMEZONE:America/Chicago
BEGIN:VTIMEZONE
TZID:America/Chicago
BEGIN:STANDARD
TZNAME:CST
DTSTART:20201101T020000
TZOFFSETFROM:-0500
TZOFFSETTO:-0600
RDATE:20211107T020000
RDATE:20221106T020000
END:STANDARD
BEGIN:DAYLIGHT
TZNAME:CDT
DTSTART:20210314T020000
TZOFFSETFROM:-0600
TZOFFSETTO:-0500
RDATE:20220313T020000
RDATE:20230312T020000
END:DAYLIGHT
END:VTIMEZONE
BEGIN:VEVENT
UID:69de7a09-b1eb-4459-94d4-86778fee3b0e
DTSTAMP:20260424T062259Z
DESCRIPTION:
DTSTART;TZID=America/Chicago:20211018T160000
DTEND;TZID=America/Chicago:20211018T170000
LOCATION:
SUMMARY:Pink Out Walk
END:VEVENT
END:VCALENDAR
