BEGIN:VCALENDAR
VERSION:2.0
PRODID:-//empowercdc.org//NONSGML kigkonsult.se iCalcreator 2.30.10//
CALSCALE:GREGORIAN
METHOD:PUBLISH
UID:ec2fe85d-cf4d-4d94-bc7b-0392caad16a4
X-WR-CALDESC:
X-WR-RELCALID:1b3242406f29283e976bf2ce6ce7efbc
X-WR-TIMEZONE:America/Chicago
BEGIN:VTIMEZONE
TZID:America/Chicago
BEGIN:STANDARD
TZNAME:CST
DTSTART:20201101T020000
TZOFFSETFROM:-0500
TZOFFSETTO:-0600
RDATE:20211107T020000
RDATE:20221106T020000
END:STANDARD
BEGIN:DAYLIGHT
TZNAME:CDT
DTSTART:20210314T020000
TZOFFSETFROM:-0600
TZOFFSETTO:-0500
RDATE:20220313T020000
RDATE:20230312T020000
END:DAYLIGHT
END:VTIMEZONE
BEGIN:VEVENT
UID:9ce1fc98-ba1e-4009-868f-8473aeba9545
DTSTAMP:20260424T061735Z
DESCRIPTION:
DTSTART;TZID=America/Chicago:20211015T120000
DTEND;TZID=America/Chicago:20211015T130000
LOCATION:
SUMMARY:SMART Lunch
END:VEVENT
END:VCALENDAR
