BEGIN:VCALENDAR
VERSION:2.0
PRODID:-//empowercdc.org//NONSGML kigkonsult.se iCalcreator 2.30.10//
CALSCALE:GREGORIAN
METHOD:PUBLISH
UID:379b8ae8-ab5c-466d-a770-5cb5c86da5db
X-WR-CALDESC:
X-WR-RELCALID:5b02930075c9a4d2d9e1f65668b5b731
X-WR-TIMEZONE:America/Chicago
BEGIN:VTIMEZONE
TZID:America/Chicago
BEGIN:STANDARD
TZNAME:CST
DTSTART:20201101T020000
TZOFFSETFROM:-0500
TZOFFSETTO:-0600
RDATE:20211107T020000
RDATE:20221106T020000
END:STANDARD
BEGIN:DAYLIGHT
TZNAME:CDT
DTSTART:20210314T020000
TZOFFSETFROM:-0600
TZOFFSETTO:-0500
RDATE:20220313T020000
RDATE:20230312T020000
END:DAYLIGHT
END:VTIMEZONE
BEGIN:VEVENT
UID:73300372-39aa-4e88-bcf6-80f2a1be7df9
DTSTAMP:20260424T061923Z
DESCRIPTION:
DTSTART;TZID=America/Chicago:20211015T160000
DTEND;TZID=America/Chicago:20211015T170000
LOCATION:
SUMMARY:Powers of Words
END:VEVENT
END:VCALENDAR
