BEGIN:VCALENDAR
VERSION:2.0
PRODID:-//empowercdc.org//NONSGML kigkonsult.se iCalcreator 2.30.10//
CALSCALE:GREGORIAN
METHOD:PUBLISH
UID:a4da15fd-2cdd-4c43-8bfd-8babd3f964b9
X-WR-CALDESC:
X-WR-RELCALID:d25f26f8c9ad6f4bc8b16d097681ae39
X-WR-TIMEZONE:America/Chicago
BEGIN:VTIMEZONE
TZID:America/Chicago
BEGIN:STANDARD
TZNAME:CST
DTSTART:20201101T020000
TZOFFSETFROM:-0500
TZOFFSETTO:-0600
RDATE:20211107T020000
RDATE:20221106T020000
END:STANDARD
BEGIN:DAYLIGHT
TZNAME:CDT
DTSTART:20210314T020000
TZOFFSETFROM:-0600
TZOFFSETTO:-0500
RDATE:20220313T020000
RDATE:20230312T020000
END:DAYLIGHT
END:VTIMEZONE
BEGIN:VEVENT
UID:3c340be9-33ba-4334-9d08-d4f16a9c5471
DTSTAMP:20260424T061754Z
DESCRIPTION:
DTSTART;TZID=America/Chicago:20211015T150000
DTEND;TZID=America/Chicago:20211015T160000
LOCATION:
SUMMARY:Meet & Greet
END:VEVENT
END:VCALENDAR
