BEGIN:VCALENDAR
VERSION:2.0
PRODID:-//empowercdc.org//NONSGML kigkonsult.se iCalcreator 2.30.10//
CALSCALE:GREGORIAN
METHOD:PUBLISH
UID:47c3f754-5818-46f8-a5cc-a0c3d2a57530
X-WR-CALDESC:
X-WR-RELCALID:66415db63590ad34f71233acb3c17e73
X-WR-TIMEZONE:America/Chicago
BEGIN:VTIMEZONE
TZID:America/Chicago
BEGIN:STANDARD
TZNAME:CST
DTSTART:20201101T020000
TZOFFSETFROM:-0500
TZOFFSETTO:-0600
RDATE:20211107T020000
RDATE:20221106T020000
END:STANDARD
BEGIN:DAYLIGHT
TZNAME:CDT
DTSTART:20210314T020000
TZOFFSETFROM:-0600
TZOFFSETTO:-0500
RDATE:20220313T020000
RDATE:20230312T020000
END:DAYLIGHT
END:VTIMEZONE
BEGIN:VEVENT
UID:b304aafa-e08c-4202-9fdb-27303da700c7
DTSTAMP:20260424T062356Z
DESCRIPTION:
DTSTART;TZID=America/Chicago:20211015T110000
DTEND;TZID=America/Chicago:20211015T120000
LOCATION:
SUMMARY:Pink Out Walk
END:VEVENT
END:VCALENDAR
