BEGIN:VCALENDAR
VERSION:2.0
PRODID:-//empowercdc.org//NONSGML kigkonsult.se iCalcreator 2.30.10//
CALSCALE:GREGORIAN
METHOD:PUBLISH
UID:19091675-b7d1-4134-a22e-d143357c0579
X-WR-CALDESC:
X-WR-RELCALID:2bb12d9498b69bf54d9f91914c53425f
X-WR-TIMEZONE:America/Chicago
BEGIN:VTIMEZONE
TZID:America/Chicago
BEGIN:STANDARD
TZNAME:CST
DTSTART:20201101T020000
TZOFFSETFROM:-0500
TZOFFSETTO:-0600
RDATE:20211107T020000
RDATE:20221106T020000
END:STANDARD
BEGIN:DAYLIGHT
TZNAME:CDT
DTSTART:20210314T020000
TZOFFSETFROM:-0600
TZOFFSETTO:-0500
RDATE:20220313T020000
RDATE:20230312T020000
END:DAYLIGHT
END:VTIMEZONE
BEGIN:VEVENT
UID:563cbb87-7067-442d-a113-f3975a272493
DTSTAMP:20260424T061711Z
DESCRIPTION:
DTSTART;TZID=America/Chicago:20211012T140000
DTEND;TZID=America/Chicago:20211012T150000
LOCATION:
SUMMARY:Graceful Strides Walk
END:VEVENT
END:VCALENDAR
