BEGIN:VCALENDAR
VERSION:2.0
PRODID:-//empowercdc.org//NONSGML kigkonsult.se iCalcreator 2.30.10//
CALSCALE:GREGORIAN
METHOD:PUBLISH
UID:ab493fc4-dfe3-4de8-97cc-e409b6d5e362
X-WR-CALDESC:
X-WR-RELCALID:1d10cab4d85841025258dee7a006d765
X-WR-TIMEZONE:America/Chicago
BEGIN:VTIMEZONE
TZID:America/Chicago
BEGIN:STANDARD
TZNAME:CST
DTSTART:20201101T020000
TZOFFSETFROM:-0500
TZOFFSETTO:-0600
RDATE:20211107T020000
RDATE:20221106T020000
END:STANDARD
BEGIN:DAYLIGHT
TZNAME:CDT
DTSTART:20210314T020000
TZOFFSETFROM:-0600
TZOFFSETTO:-0500
RDATE:20220313T020000
RDATE:20230312T020000
END:DAYLIGHT
END:VTIMEZONE
BEGIN:VEVENT
UID:768ddd9b-9018-4bcf-8c9c-9af511c4e21d
DTSTAMP:20260424T062106Z
DESCRIPTION:
DTSTART;TZID=America/Chicago:20211012T140000
DTEND;TZID=America/Chicago:20211012T150000
LOCATION:
SUMMARY:Simply Fit
END:VEVENT
END:VCALENDAR
