BEGIN:VCALENDAR
VERSION:2.0
PRODID:-//empowercdc.org//NONSGML kigkonsult.se iCalcreator 2.30.10//
CALSCALE:GREGORIAN
METHOD:PUBLISH
UID:e7ce19c9-147d-4bc5-a335-dd73388386dc
X-WR-CALDESC:
X-WR-RELCALID:5d30df306bfffbc4fe51566e11f81010
X-WR-TIMEZONE:America/Chicago
BEGIN:VTIMEZONE
TZID:America/Chicago
BEGIN:STANDARD
TZNAME:CST
DTSTART:20201101T020000
TZOFFSETFROM:-0500
TZOFFSETTO:-0600
RDATE:20211107T020000
RDATE:20221106T020000
END:STANDARD
BEGIN:DAYLIGHT
TZNAME:CDT
DTSTART:20210314T020000
TZOFFSETFROM:-0600
TZOFFSETTO:-0500
RDATE:20220313T020000
RDATE:20230312T020000
END:DAYLIGHT
END:VTIMEZONE
BEGIN:VEVENT
UID:9759443b-c654-45ec-ae0a-4baec81f348a
DTSTAMP:20260424T062243Z
DESCRIPTION:
DTSTART;TZID=America/Chicago:20211011T160000
DTEND;TZID=America/Chicago:20211011T170000
LOCATION:
SUMMARY:Pink Out Walk
END:VEVENT
END:VCALENDAR
