BEGIN:VCALENDAR
VERSION:2.0
PRODID:-//empowercdc.org//NONSGML kigkonsult.se iCalcreator 2.30.10//
CALSCALE:GREGORIAN
METHOD:PUBLISH
UID:489e6057-e158-49a2-a8b4-5c8c84892576
X-WR-CALDESC:
X-WR-RELCALID:5ac6bfe0e7c2f715d69ea45cd0702027
X-WR-TIMEZONE:America/Chicago
BEGIN:VTIMEZONE
TZID:America/Chicago
BEGIN:STANDARD
TZNAME:CST
DTSTART:20201101T020000
TZOFFSETFROM:-0500
TZOFFSETTO:-0600
RDATE:20211107T020000
RDATE:20221106T020000
END:STANDARD
BEGIN:DAYLIGHT
TZNAME:CDT
DTSTART:20210314T020000
TZOFFSETFROM:-0600
TZOFFSETTO:-0500
RDATE:20220313T020000
RDATE:20230312T020000
END:DAYLIGHT
END:VTIMEZONE
BEGIN:VEVENT
UID:0140fdb4-5e6b-4d48-946d-18c7e5c278e5
DTSTAMP:20260424T061753Z
DESCRIPTION:
DTSTART;TZID=America/Chicago:20211008T110000
DTEND;TZID=America/Chicago:20211008T120000
LOCATION:
SUMMARY:Pink Out Walk
END:VEVENT
END:VCALENDAR
