BEGIN:VCALENDAR
VERSION:2.0
PRODID:-//empowercdc.org//NONSGML kigkonsult.se iCalcreator 2.30.10//
CALSCALE:GREGORIAN
METHOD:PUBLISH
UID:28206eb2-b4ae-4af4-86d3-1a1acc3ea9ba
X-WR-CALDESC:
X-WR-RELCALID:aefb26d2ffbd5a6d876bca2129e8c1f6
X-WR-TIMEZONE:America/Chicago
BEGIN:VTIMEZONE
TZID:America/Chicago
BEGIN:STANDARD
TZNAME:CST
DTSTART:20201101T020000
TZOFFSETFROM:-0500
TZOFFSETTO:-0600
RDATE:20211107T020000
RDATE:20221106T020000
END:STANDARD
BEGIN:DAYLIGHT
TZNAME:CDT
DTSTART:20210314T020000
TZOFFSETFROM:-0600
TZOFFSETTO:-0500
RDATE:20220313T020000
RDATE:20230312T020000
END:DAYLIGHT
END:VTIMEZONE
BEGIN:VEVENT
UID:ed4432dd-a6eb-47ad-bab4-d137b4c3cfda
DTSTAMP:20260424T061713Z
DESCRIPTION:
DTSTART;TZID=America/Chicago:20211008T130000
DTEND;TZID=America/Chicago:20211008T140000
LOCATION:
SUMMARY:Lets Get Crafty
END:VEVENT
END:VCALENDAR
