BEGIN:VCALENDAR
VERSION:2.0
PRODID:-//empowercdc.org//NONSGML kigkonsult.se iCalcreator 2.30.10//
CALSCALE:GREGORIAN
METHOD:PUBLISH
UID:dce86fd1-b5f0-4a8b-a465-dac0aa7d90ad
X-WR-CALDESC:
X-WR-RELCALID:ceb4a651af311ad942699559c3da1c5b
X-WR-TIMEZONE:America/Chicago
BEGIN:VTIMEZONE
TZID:America/Chicago
BEGIN:STANDARD
TZNAME:CST
DTSTART:20201101T020000
TZOFFSETFROM:-0500
TZOFFSETTO:-0600
RDATE:20211107T020000
RDATE:20221106T020000
END:STANDARD
BEGIN:DAYLIGHT
TZNAME:CDT
DTSTART:20210314T020000
TZOFFSETFROM:-0600
TZOFFSETTO:-0500
RDATE:20220313T020000
RDATE:20230312T020000
END:DAYLIGHT
END:VTIMEZONE
BEGIN:VEVENT
UID:999eb0cb-c282-4b27-818f-9b0ac877e029
DTSTAMP:20260424T061537Z
DESCRIPTION:
DTSTART;TZID=America/Chicago:20211008T160000
DTEND;TZID=America/Chicago:20211008T170000
LOCATION:
SUMMARY:Fall Coloring
END:VEVENT
END:VCALENDAR
